Package: fastLiquidAssociation Version: 1.40.0 Command: E:\biocbuild\bbs-3.19-bioc\R\bin\R.exe CMD INSTALL fastLiquidAssociation StartedAt: 2024-10-16 16:55:31 -0400 (Wed, 16 Oct 2024) EndedAt: 2024-10-16 16:56:08 -0400 (Wed, 16 Oct 2024) EllapsedTime: 36.7 seconds RetCode: 0 Status: OK