Package: fastLiquidAssociation Version: 1.40.0 Command: E:\biocbuild\bbs-3.19-bioc\R\bin\R.exe CMD check --no-multiarch --install=check:fastLiquidAssociation.install-out.txt --library=E:\biocbuild\bbs-3.19-bioc\R\library --no-vignettes --timings fastLiquidAssociation_1.40.0.tar.gz StartedAt: 2024-10-17 01:25:21 -0400 (Thu, 17 Oct 2024) EndedAt: 2024-10-17 01:28:45 -0400 (Thu, 17 Oct 2024) EllapsedTime: 204.0 seconds RetCode: 0 Status: WARNINGS CheckDir: fastLiquidAssociation.Rcheck Warnings: 1