Package: fastLiquidAssociation Version: 1.40.0 Command: chmod a+r fastLiquidAssociation -R && E:\biocbuild\bbs-3.19-bioc\R\bin\R.exe CMD build --keep-empty-dirs --no-resave-data fastLiquidAssociation StartedAt: 2024-10-16 19:06:24 -0400 (Wed, 16 Oct 2024) EndedAt: 2024-10-16 19:08:14 -0400 (Wed, 16 Oct 2024) EllapsedTime: 109.5 seconds RetCode: 0 Status: OK PackageFile: fastLiquidAssociation_1.40.0.tar.gz PackageFileSize: 753.4 KiB