Package: fastLiquidAssociation Version: 1.40.0 Command: rm -rf fastLiquidAssociation.buildbin-libdir && mkdir fastLiquidAssociation.buildbin-libdir && E:\biocbuild\bbs-3.19-bioc\R\bin\R.exe CMD INSTALL --build --library=fastLiquidAssociation.buildbin-libdir fastLiquidAssociation_1.40.0.tar.gz StartedAt: 2024-10-17 07:47:18 -0400 (Thu, 17 Oct 2024) EndedAt: 2024-10-17 07:48:23 -0400 (Thu, 17 Oct 2024) EllapsedTime: 64.8 seconds RetCode: 0 Status: OK PackageFile: fastLiquidAssociation_1.40.0.zip PackageFileSize: 668.4 KiB