Package: fastLiquidAssociation Version: 1.40.0 Command: /home/biocbuild/bbs-3.19-bioc/R/bin/R CMD check --install=check:fastLiquidAssociation.install-out.txt --library=/home/biocbuild/bbs-3.19-bioc/R/site-library --timings fastLiquidAssociation_1.40.0.tar.gz StartedAt: 2024-10-17 00:22:59 -0400 (Thu, 17 Oct 2024) EndedAt: 2024-10-17 00:26:43 -0400 (Thu, 17 Oct 2024) EllapsedTime: 223.6 seconds RetCode: 0 Status: WARNINGS CheckDir: fastLiquidAssociation.Rcheck Warnings: 1