Package: fastLiquidAssociation Version: 1.40.0 Command: /Library/Frameworks/R.framework/Resources/bin/R CMD INSTALL fastLiquidAssociation StartedAt: 2024-10-16 16:14:48 -0400 (Wed, 16 Oct 2024) EndedAt: 2024-10-16 16:15:38 -0400 (Wed, 16 Oct 2024) EllapsedTime: 49.8 seconds RetCode: 0 Status: OK