Package: fastLiquidAssociation Version: 1.40.0 Command: /Library/Frameworks/R.framework/Resources/bin/R CMD check --install=check:fastLiquidAssociation.install-out.txt --library=/Library/Frameworks/R.framework/Resources/library --no-vignettes --timings fastLiquidAssociation_1.40.0.tar.gz StartedAt: 2024-06-09 20:20:47 -0400 (Sun, 09 Jun 2024) EndedAt: 2024-06-09 20:24:04 -0400 (Sun, 09 Jun 2024) EllapsedTime: 196.8 seconds RetCode: 0 Status: WARNINGS CheckDir: fastLiquidAssociation.Rcheck Warnings: 1