Package: fastLiquidAssociation Version: 1.40.0 Command: rm -rf fastLiquidAssociation.buildbin-libdir && mkdir fastLiquidAssociation.buildbin-libdir && /Users/biocbuild/BBS/utils/build-universal.sh fastLiquidAssociation_1.40.0.tar.gz /Library/Frameworks/R.framework/Resources/bin/R fastLiquidAssociation.buildbin-libdir StartedAt: 2024-06-10 00:17:59 -0400 (Mon, 10 Jun 2024) EndedAt: 2024-06-10 00:18:28 -0400 (Mon, 10 Jun 2024) EllapsedTime: 29.2 seconds RetCode: 0 Status: OK PackageFile: fastLiquidAssociation_1.40.0.tgz PackageFileSize: 659.4 KiB