Package: fastLiquidAssociation Version: 1.40.0 Command: /home/biocbuild/R/R-beta-2024-04-15_r86425/bin/R CMD check --install=check:fastLiquidAssociation.install-out.txt --library=/home/biocbuild/R/R-beta-2024-04-15_r86425/site-library --no-vignettes --timings fastLiquidAssociation_1.40.0.tar.gz StartedAt: 2024-05-09 07:21:54 -0000 (Thu, 09 May 2024) EndedAt: 2024-05-09 07:25:36 -0000 (Thu, 09 May 2024) EllapsedTime: 221.5 seconds RetCode: 0 Status: WARNINGS CheckDir: fastLiquidAssociation.Rcheck Warnings: 1