Package: fastLiquidAssociation Version: 1.40.0 Maintainer: Tina Gunderson MaintainerEmail: gunderson.tina at gmail.com git_url: https://git.bioconductor.org/packages/fastLiquidAssociation git_branch: RELEASE_3_19 git_last_commit: d2d0399 git_last_commit_date: 2024-04-30 10:36:33 -0400 (Tue, 30 Apr 2024)