Package: farms Version: 1.56.0 Command: rm -rf farms.buildbin-libdir && mkdir farms.buildbin-libdir && E:\biocbuild\bbs-3.19-bioc\R\bin\R.exe CMD INSTALL --build --library=farms.buildbin-libdir farms_1.56.0.tar.gz StartedAt: 2024-10-17 07:47:17 -0400 (Thu, 17 Oct 2024) EndedAt: 2024-10-17 07:47:30 -0400 (Thu, 17 Oct 2024) EllapsedTime: 13.1 seconds RetCode: 0 Status: OK PackageFile: farms_1.56.0.zip PackageFileSize: 280.2 KiB