Package: farms Version: 1.56.0 Command: chmod a+r farms -R && F:\biocbuild\bbs-3.19-bioc\R\bin\R.exe CMD build --keep-empty-dirs --no-resave-data farms StartedAt: 2024-06-26 18:48:34 -0400 (Wed, 26 Jun 2024) EndedAt: 2024-06-26 18:49:49 -0400 (Wed, 26 Jun 2024) EllapsedTime: 74.3 seconds RetCode: 0 Status: OK PackageFile: farms_1.56.0.tar.gz PackageFileSize: 288.8 KiB