Package: famat Version: 1.14.0 Command: rm -rf famat.buildbin-libdir && mkdir famat.buildbin-libdir && E:\biocbuild\bbs-3.19-bioc\R\bin\R.exe CMD INSTALL --build --library=famat.buildbin-libdir famat_1.14.0.tar.gz StartedAt: 2024-10-17 07:47:15 -0400 (Thu, 17 Oct 2024) EndedAt: 2024-10-17 07:48:12 -0400 (Thu, 17 Oct 2024) EllapsedTime: 56.9 seconds RetCode: 0 Status: OK PackageFile: famat_1.14.0.zip PackageFileSize: 3.645 MiB