Package: famat Version: 1.14.0 Command: /home/biocbuild/bbs-3.19-bioc/R/bin/R CMD build --keep-empty-dirs --no-resave-data famat StartedAt: 2024-10-16 18:28:13 -0400 (Wed, 16 Oct 2024) EndedAt: 2024-10-16 18:30:41 -0400 (Wed, 16 Oct 2024) EllapsedTime: 148.3 seconds RetCode: 0 Status: OK PackageFile: famat_1.14.0.tar.gz PackageFileSize: 3.919 MiB