Package: famat Version: 1.14.0 Command: /home/biocbuild/R/R-beta-2024-04-15_r86425/bin/R CMD build --keep-empty-dirs --no-resave-data famat StartedAt: 2024-05-09 00:14:50 -0000 (Thu, 09 May 2024) EndedAt: 2024-05-09 00:18:23 -0000 (Thu, 09 May 2024) EllapsedTime: 212.3 seconds RetCode: 0 Status: OK PackageFile: famat_1.14.0.tar.gz PackageFileSize: 3.942 MiB