Package: famat Version: 1.14.0 Command: /Library/Frameworks/R.framework/Resources/bin/R CMD INSTALL famat StartedAt: 2024-06-09 17:00:20 -0400 (Sun, 09 Jun 2024) EndedAt: 2024-06-09 17:01:19 -0400 (Sun, 09 Jun 2024) EllapsedTime: 58.7 seconds RetCode: 0 Status: OK