Package: famat Version: 1.14.0 Command: /Library/Frameworks/R.framework/Resources/bin/R CMD build --keep-empty-dirs --no-resave-data famat StartedAt: 2024-10-17 00:20:09 -0400 (Thu, 17 Oct 2024) EndedAt: 2024-10-17 00:23:42 -0400 (Thu, 17 Oct 2024) EllapsedTime: 213.4 seconds RetCode: 0 Status: OK PackageFile: famat_1.14.0.tar.gz PackageFileSize: 3.919 MiB