Package: famat Version: 1.14.0 Command: rm -rf famat.buildbin-libdir && mkdir famat.buildbin-libdir && /Users/biocbuild/BBS/utils/build-universal.sh famat_1.14.0.tar.gz /Library/Frameworks/R.framework/Resources/bin/R famat.buildbin-libdir StartedAt: 2024-10-18 18:27:53 -0400 (Fri, 18 Oct 2024) EndedAt: 2024-10-18 18:29:14 -0400 (Fri, 18 Oct 2024) EllapsedTime: 80.9 seconds RetCode: 0 Status: OK PackageFile: famat_1.14.0.tgz PackageFileSize: 3.641 MiB