Package: faers Version: 1.0.3 Command: E:\biocbuild\bbs-3.19-bioc\R\bin\R.exe CMD INSTALL faers StartedAt: 2024-10-16 17:14:24 -0400 (Wed, 16 Oct 2024) EndedAt: 2024-10-16 17:14:56 -0400 (Wed, 16 Oct 2024) EllapsedTime: 32.2 seconds RetCode: 0 Status: OK