Package: faers Version: 1.0.3 Command: E:\biocbuild\bbs-3.19-bioc\R\bin\R.exe CMD check --no-multiarch --install=check:faers.install-out.txt --library=E:\biocbuild\bbs-3.19-bioc\R\library --no-vignettes --timings faers_1.0.3.tar.gz StartedAt: 2024-08-26 01:11:27 -0400 (Mon, 26 Aug 2024) EndedAt: 2024-08-26 01:13:22 -0400 (Mon, 26 Aug 2024) EllapsedTime: 115.0 seconds RetCode: 1 Status: ERROR CheckDir: faers.Rcheck Warnings: NA