Package: faers Version: 1.0.3 Command: rm -rf faers.buildbin-libdir && mkdir faers.buildbin-libdir && E:\biocbuild\bbs-3.19-bioc\R\bin\R.exe CMD INSTALL --build --library=faers.buildbin-libdir faers_1.0.3.tar.gz StartedAt: 2024-08-26 07:41:33 -0400 (Mon, 26 Aug 2024) EndedAt: 2024-08-26 07:42:06 -0400 (Mon, 26 Aug 2024) EllapsedTime: 33.7 seconds RetCode: 0 Status: OK PackageFile: faers_1.0.3.zip PackageFileSize: 3.227 MiB