Package: faers Version: 1.0.3 Command: /home/biocbuild/bbs-3.19-bioc/R/bin/R CMD check --install=check:faers.install-out.txt --library=/home/biocbuild/bbs-3.19-bioc/R/site-library --timings faers_1.0.3.tar.gz StartedAt: 2024-10-17 00:22:18 -0400 (Thu, 17 Oct 2024) EndedAt: 2024-10-17 00:23:34 -0400 (Thu, 17 Oct 2024) EllapsedTime: 76.1 seconds RetCode: 0 Status: OK CheckDir: faers.Rcheck Warnings: 0