Package: faers Version: 1.0.3 Command: rm -rf faers.buildbin-libdir && mkdir faers.buildbin-libdir && /Users/biocbuild/BBS/utils/build-universal.sh faers_1.0.3.tar.gz /Library/Frameworks/R.framework/Resources/bin/R faers.buildbin-libdir StartedAt: 2024-10-17 16:08:44 -0400 (Thu, 17 Oct 2024) EndedAt: 2024-10-17 16:09:00 -0400 (Thu, 17 Oct 2024) EllapsedTime: 15.5 seconds RetCode: 0 Status: OK PackageFile: faers_1.0.3.tgz PackageFileSize: 3.222 MiB