Package: faers Version: 1.0.0 Command: /Library/Frameworks/R.framework/Resources/bin/R CMD build --keep-empty-dirs --no-resave-data faers StartedAt: 2024-06-09 21:28:45 -0400 (Sun, 09 Jun 2024) EndedAt: 2024-06-09 21:29:39 -0400 (Sun, 09 Jun 2024) EllapsedTime: 53.6 seconds RetCode: 0 Status: OK PackageFile: faers_1.0.0.tar.gz PackageFileSize: 2.893 MiB