Package: faers Version: 1.0.3 Command: /Library/Frameworks/R.framework/Resources/bin/R CMD INSTALL faers StartedAt: 2024-10-16 18:37:17 -0400 (Wed, 16 Oct 2024) EndedAt: 2024-10-16 18:37:23 -0400 (Wed, 16 Oct 2024) EllapsedTime: 5.6 seconds RetCode: 0 Status: OK