Package: faers Version: 1.0.3 Command: /Library/Frameworks/R.framework/Resources/bin/R CMD build --keep-empty-dirs --no-resave-data faers StartedAt: 2024-10-17 00:19:57 -0400 (Thu, 17 Oct 2024) EndedAt: 2024-10-17 00:20:09 -0400 (Thu, 17 Oct 2024) EllapsedTime: 12.3 seconds RetCode: 1 Status: ERROR PackageFile: None PackageFileSize: NA