Package: faers Version: 1.0.3 Maintainer: Yun Peng MaintainerEmail: yunyunp96 at 163.com git_url: https://git.bioconductor.org/packages/faers git_branch: RELEASE_3_19 git_last_commit: b9f79d6 git_last_commit_date: 2024-07-02 05:56:38 -0400 (Tue, 02 Jul 2024)