Package: factR Version: 1.6.0 Command: E:\biocbuild\bbs-3.19-bioc\R\bin\R.exe CMD INSTALL factR StartedAt: 2024-10-16 16:28:38 -0400 (Wed, 16 Oct 2024) EndedAt: 2024-10-16 16:28:59 -0400 (Wed, 16 Oct 2024) EllapsedTime: 20.8 seconds RetCode: 0 Status: OK