Package: factR Version: 1.6.0 Command: /home/biocbuild/bbs-3.19-bioc/R/bin/R CMD build --keep-empty-dirs --no-resave-data factR StartedAt: 2024-10-16 18:28:06 -0400 (Wed, 16 Oct 2024) EndedAt: 2024-10-16 18:35:52 -0400 (Wed, 16 Oct 2024) EllapsedTime: 466.1 seconds RetCode: 0 Status: OK PackageFile: factR_1.6.0.tar.gz PackageFileSize: 1.676 MiB