Package: factR Version: 1.6.0 Command: /Library/Frameworks/R.framework/Resources/bin/R CMD build --keep-empty-dirs --no-resave-data factR StartedAt: 2024-06-09 21:28:39 -0400 (Sun, 09 Jun 2024) EndedAt: 2024-06-09 21:33:12 -0400 (Sun, 09 Jun 2024) EllapsedTime: 273.5 seconds RetCode: 0 Status: OK PackageFile: factR_1.6.0.tar.gz PackageFileSize: 1.838 MiB