Package: factDesign Version: 1.80.0 Command: /Library/Frameworks/R.framework/Resources/bin/R CMD build --keep-empty-dirs --no-resave-data factDesign StartedAt: 2024-10-16 19:11:35 -0400 (Wed, 16 Oct 2024) EndedAt: 2024-10-16 19:12:09 -0400 (Wed, 16 Oct 2024) EllapsedTime: 34.4 seconds RetCode: 0 Status: OK PackageFile: factDesign_1.80.0.tar.gz PackageFileSize: 217 KiB