Package: factDesign Version: 1.80.0 Command: /home/biocbuild/R/R-beta-2024-04-15_r86425/bin/R CMD INSTALL factDesign StartedAt: 2024-05-08 20:06:33 -0000 (Wed, 08 May 2024) EndedAt: 2024-05-08 20:07:09 -0000 (Wed, 08 May 2024) EllapsedTime: 36.1 seconds RetCode: 0 Status: OK