Package: factDesign Version: 1.80.0 Command: /Library/Frameworks/R.framework/Resources/bin/R CMD build --keep-empty-dirs --no-resave-data factDesign StartedAt: 2024-10-17 00:19:48 -0400 (Thu, 17 Oct 2024) EndedAt: 2024-10-17 00:20:02 -0400 (Thu, 17 Oct 2024) EllapsedTime: 14.8 seconds RetCode: 0 Status: OK PackageFile: factDesign_1.80.0.tar.gz PackageFileSize: 217 KiB