Package: fabia Version: 2.50.0 Command: E:\biocbuild\bbs-3.19-bioc\R\bin\R.exe CMD check --no-multiarch --install=check:fabia.install-out.txt --library=E:\biocbuild\bbs-3.19-bioc\R\library --no-vignettes --timings fabia_2.50.0.tar.gz StartedAt: 2024-10-17 01:24:47 -0400 (Thu, 17 Oct 2024) EndedAt: 2024-10-17 01:25:49 -0400 (Thu, 17 Oct 2024) EllapsedTime: 62.6 seconds RetCode: 0 Status: WARNINGS CheckDir: fabia.Rcheck Warnings: 1