Package: fabia Version: 2.50.0 Command: rm -rf fabia.buildbin-libdir && mkdir fabia.buildbin-libdir && E:\biocbuild\bbs-3.19-bioc\R\bin\R.exe CMD INSTALL --build --library=fabia.buildbin-libdir fabia_2.50.0.tar.gz StartedAt: 2024-10-17 07:47:03 -0400 (Thu, 17 Oct 2024) EndedAt: 2024-10-17 07:47:37 -0400 (Thu, 17 Oct 2024) EllapsedTime: 34.1 seconds RetCode: 0 Status: OK PackageFile: fabia_2.50.0.zip PackageFileSize: 1.108 MiB