Package: fabia Version: 2.50.0 Command: rm -rf fabia.buildbin-libdir && mkdir fabia.buildbin-libdir && /Users/biocbuild/BBS/utils/build-universal.sh fabia_2.50.0.tar.gz /Library/Frameworks/R.framework/Resources/bin/R fabia.buildbin-libdir StartedAt: 2024-10-17 16:08:38 -0400 (Thu, 17 Oct 2024) EndedAt: 2024-10-17 16:09:07 -0400 (Thu, 17 Oct 2024) EllapsedTime: 28.8 seconds RetCode: 0 Status: OK PackageFile: fabia_2.50.0.tgz PackageFileSize: 1.141 MiB