Package: fCI Version: 1.34.0 Command: F:\biocbuild\bbs-3.19-bioc\R\bin\R.exe CMD INSTALL fCI StartedAt: 2024-06-26 16:15:49 -0400 (Wed, 26 Jun 2024) EndedAt: 2024-06-26 16:16:03 -0400 (Wed, 26 Jun 2024) EllapsedTime: 13.7 seconds RetCode: 0 Status: OK