Package: fCI Version: 1.34.0 Command: rm -rf fCI.buildbin-libdir && mkdir fCI.buildbin-libdir && F:\biocbuild\bbs-3.19-bioc\R\bin\R.exe CMD INSTALL --build --library=fCI.buildbin-libdir fCI_1.34.0.tar.gz StartedAt: 2024-06-27 08:12:31 -0400 (Thu, 27 Jun 2024) EndedAt: 2024-06-27 08:12:46 -0400 (Thu, 27 Jun 2024) EllapsedTime: 14.7 seconds RetCode: 0 Status: OK PackageFile: fCI_1.34.0.zip PackageFileSize: 1.316 MiB