Package: fCI Version: 1.34.0 Command: /home/biocbuild/bbs-3.19-bioc/R/bin/R CMD build --keep-empty-dirs --no-resave-data fCI StartedAt: 2024-10-16 18:29:34 -0400 (Wed, 16 Oct 2024) EndedAt: 2024-10-16 18:30:05 -0400 (Wed, 16 Oct 2024) EllapsedTime: 31.1 seconds RetCode: 0 Status: OK PackageFile: fCI_1.34.0.tar.gz PackageFileSize: 1.263 MiB