Package: fCI Version: 1.34.0 Command: rm -rf fCI.buildbin-libdir && mkdir fCI.buildbin-libdir && /Users/biocbuild/BBS/utils/build-universal.sh fCI_1.34.0.tar.gz /Library/Frameworks/R.framework/Resources/bin/R fCI.buildbin-libdir StartedAt: 2024-10-17 16:09:10 -0400 (Thu, 17 Oct 2024) EndedAt: 2024-10-17 16:09:26 -0400 (Thu, 17 Oct 2024) EllapsedTime: 16.1 seconds RetCode: 0 Status: OK PackageFile: fCI_1.34.0.tgz PackageFileSize: 1.553 MiB