Package: fCI Version: 1.34.0 Command: /Library/Frameworks/R.framework/Resources/bin/R CMD INSTALL fCI StartedAt: 2024-06-09 15:17:52 -0400 (Sun, 09 Jun 2024) EndedAt: 2024-06-09 15:18:01 -0400 (Sun, 09 Jun 2024) EllapsedTime: 9.3 seconds RetCode: 0 Status: OK