Package: fCI Version: 1.34.0 Command: /Library/Frameworks/R.framework/Resources/bin/R CMD check --install=check:fCI.install-out.txt --library=/Library/Frameworks/R.framework/Resources/library --no-vignettes --timings fCI_1.34.0.tar.gz StartedAt: 2024-06-10 15:36:53 -0400 (Mon, 10 Jun 2024) EndedAt: 2024-06-10 15:38:31 -0400 (Mon, 10 Jun 2024) EllapsedTime: 97.6 seconds RetCode: 0 Status: OK CheckDir: fCI.Rcheck Warnings: 0