Package: fCI Version: 1.34.0 Command: rm -rf fCI.buildbin-libdir && mkdir fCI.buildbin-libdir && /Users/biocbuild/BBS/utils/build-universal.sh fCI_1.34.0.tar.gz /Library/Frameworks/R.framework/Resources/bin/R fCI.buildbin-libdir StartedAt: 2024-06-11 11:12:49 -0400 (Tue, 11 Jun 2024) EndedAt: 2024-06-11 11:13:05 -0400 (Tue, 11 Jun 2024) EllapsedTime: 15.7 seconds RetCode: 0 Status: OK PackageFile: fCI_1.34.0.tgz PackageFileSize: 1.556 MiB