Package: fCI Version: 1.34.0 Command: /Library/Frameworks/R.framework/Resources/bin/R CMD build --keep-empty-dirs --no-resave-data fCI StartedAt: 2024-10-17 00:23:22 -0400 (Thu, 17 Oct 2024) EndedAt: 2024-10-17 00:24:03 -0400 (Thu, 17 Oct 2024) EllapsedTime: 40.8 seconds RetCode: 0 Status: OK PackageFile: fCI_1.34.0.tar.gz PackageFileSize: 1.322 MiB