Package: fCCAC Version: 1.30.0 Command: F:\biocbuild\bbs-3.19-bioc\R\bin\R.exe CMD check --no-multiarch --install=check:fCCAC.install-out.txt --library=F:\biocbuild\bbs-3.19-bioc\R\library --no-vignettes --timings fCCAC_1.30.0.tar.gz StartedAt: 2024-06-27 01:36:09 -0400 (Thu, 27 Jun 2024) EndedAt: 2024-06-27 01:41:41 -0400 (Thu, 27 Jun 2024) EllapsedTime: 332.6 seconds RetCode: 0 Status: OK CheckDir: fCCAC.Rcheck Warnings: 0