Package: fCCAC Version: 1.30.0 Command: chmod a+r fCCAC -R && F:\biocbuild\bbs-3.19-bioc\R\bin\R.exe CMD build --keep-empty-dirs --no-resave-data fCCAC StartedAt: 2024-06-26 18:51:05 -0400 (Wed, 26 Jun 2024) EndedAt: 2024-06-26 18:51:53 -0400 (Wed, 26 Jun 2024) EllapsedTime: 48.1 seconds RetCode: 0 Status: OK PackageFile: fCCAC_1.30.0.tar.gz PackageFileSize: 3.495 MiB