Package: fCCAC Version: 1.30.0 Command: /home/biocbuild/R/R-beta-2024-04-15_r86425/bin/R CMD check --install=check:fCCAC.install-out.txt --library=/home/biocbuild/R/R-beta-2024-04-15_r86425/site-library --no-vignettes --timings fCCAC_1.30.0.tar.gz StartedAt: 2024-05-09 07:23:01 -0000 (Thu, 09 May 2024) EndedAt: 2024-05-09 07:29:00 -0000 (Thu, 09 May 2024) EllapsedTime: 358.7 seconds RetCode: 0 Status: OK CheckDir: fCCAC.Rcheck Warnings: 0