Package: fCCAC Version: 1.30.0 Maintainer: Pedro Madrigal MaintainerEmail: pmadrigal at ebi.ac.uk git_url: https://git.bioconductor.org/packages/fCCAC git_branch: RELEASE_3_19 git_last_commit: 8569981 git_last_commit_date: 2024-04-30 10:55:01 -0400 (Tue, 30 Apr 2024)