Package: extraChIPs Version: 1.8.5 Command: chmod a+r extraChIPs -R && E:\biocbuild\bbs-3.19-bioc\R\bin\R.exe CMD build --keep-empty-dirs --no-resave-data extraChIPs StartedAt: 2024-10-16 19:05:45 -0400 (Wed, 16 Oct 2024) EndedAt: 2024-10-16 19:08:20 -0400 (Wed, 16 Oct 2024) EllapsedTime: 154.9 seconds RetCode: 0 Status: OK PackageFile: extraChIPs_1.8.5.tar.gz PackageFileSize: 3.364 MiB