Package: extraChIPs Version: 1.8.5 Command: rm -rf extraChIPs.buildbin-libdir && mkdir extraChIPs.buildbin-libdir && E:\biocbuild\bbs-3.19-bioc\R\bin\R.exe CMD INSTALL --build --library=extraChIPs.buildbin-libdir extraChIPs_1.8.5.tar.gz StartedAt: 2024-10-17 07:47:01 -0400 (Thu, 17 Oct 2024) EndedAt: 2024-10-17 07:48:39 -0400 (Thu, 17 Oct 2024) EllapsedTime: 97.8 seconds RetCode: 0 Status: OK PackageFile: extraChIPs_1.8.5.zip PackageFileSize: 2.275 MiB